BEGIN:VCALENDAR
VERSION:2.0
PRODID:-//Junge Kirche Giswil - ECPv6.15.17.1//NONSGML v1.0//EN
CALSCALE:GREGORIAN
METHOD:PUBLISH
X-WR-CALNAME:Junge Kirche Giswil
X-ORIGINAL-URL:https://junge-kirche-giswil.ch
X-WR-CALDESC:Veranstaltungen für Junge Kirche Giswil
REFRESH-INTERVAL;VALUE=DURATION:PT1H
X-Robots-Tag:noindex
X-PUBLISHED-TTL:PT1H
BEGIN:VTIMEZONE
TZID:Europe/Berlin
BEGIN:DAYLIGHT
TZOFFSETFROM:+0100
TZOFFSETTO:+0200
TZNAME:CEST
DTSTART:20250330T010000
END:DAYLIGHT
BEGIN:STANDARD
TZOFFSETFROM:+0200
TZOFFSETTO:+0100
TZNAME:CET
DTSTART:20251026T010000
END:STANDARD
BEGIN:DAYLIGHT
TZOFFSETFROM:+0100
TZOFFSETTO:+0200
TZNAME:CEST
DTSTART:20260329T010000
END:DAYLIGHT
BEGIN:STANDARD
TZOFFSETFROM:+0200
TZOFFSETTO:+0100
TZNAME:CET
DTSTART:20261025T010000
END:STANDARD
BEGIN:DAYLIGHT
TZOFFSETFROM:+0100
TZOFFSETTO:+0200
TZNAME:CEST
DTSTART:20270328T010000
END:DAYLIGHT
BEGIN:STANDARD
TZOFFSETFROM:+0200
TZOFFSETTO:+0100
TZNAME:CET
DTSTART:20271031T010000
END:STANDARD
END:VTIMEZONE
BEGIN:VEVENT
DTSTART;TZID=Europe/Berlin:20260503T093000
DTEND;TZID=Europe/Berlin:20260503T110000
DTSTAMP:20260421T105117
CREATED:20250217T164322Z
LAST-MODIFIED:20250924T122147Z
UID:4489-1777800600-1777806000@junge-kirche-giswil.ch
SUMMARY:Firmung
DESCRIPTION:
URL:https://junge-kirche-giswil.ch/event/firmung-2/
LOCATION:Kirche Rudenz\, St. Laurentius\, Kirchplatz 2\, Giswil\, 6074\, Schweiz
CATEGORIES:Firmweg
END:VEVENT
BEGIN:VEVENT
DTSTART;TZID=Europe/Berlin:20260527T190000
DTEND;TZID=Europe/Berlin:20260527T190000
DTSTAMP:20260421T105117
CREATED:20260225T124138Z
LAST-MODIFIED:20260225T124138Z
UID:4607-1779908400-1779908400@junge-kirche-giswil.ch
SUMMARY:Taizegebet
DESCRIPTION:
URL:https://junge-kirche-giswil.ch/event/taizegebet-4/
LOCATION:Kirche Rudenz\, St. Laurentius\, Kirchplatz 2\, Giswil\, 6074\, Schweiz
CATEGORIES:Taizé
END:VEVENT
BEGIN:VEVENT
DTSTART;TZID=Europe/Berlin:20260826T190000
DTEND;TZID=Europe/Berlin:20260826T190000
DTSTAMP:20260421T105117
CREATED:20260225T124227Z
LAST-MODIFIED:20260225T124227Z
UID:4609-1787770800-1787770800@junge-kirche-giswil.ch
SUMMARY:Taizegebet
DESCRIPTION:
URL:https://junge-kirche-giswil.ch/event/taizegebet-5/
LOCATION:Kirche Rudenz\, St. Laurentius\, Kirchplatz 2\, Giswil\, 6074\, Schweiz
CATEGORIES:Taizé
END:VEVENT
BEGIN:VEVENT
DTSTART;TZID=Europe/Berlin:20261028T190000
DTEND;TZID=Europe/Berlin:20261028T190000
DTSTAMP:20260421T105117
CREATED:20260225T124315Z
LAST-MODIFIED:20260225T124315Z
UID:4611-1793214000-1793214000@junge-kirche-giswil.ch
SUMMARY:Taizegebet
DESCRIPTION:
URL:https://junge-kirche-giswil.ch/event/taizegebet-6/
LOCATION:Kirche Rudenz\, St. Laurentius\, Kirchplatz 2\, Giswil\, 6074\, Schweiz
CATEGORIES:Taizé
END:VEVENT
BEGIN:VEVENT
DTSTART;TZID=Europe/Berlin:20261125T190000
DTEND;TZID=Europe/Berlin:20261125T190000
DTSTAMP:20260421T105117
CREATED:20260225T124351Z
LAST-MODIFIED:20260225T124351Z
UID:4613-1795633200-1795633200@junge-kirche-giswil.ch
SUMMARY:Taizegebet
DESCRIPTION:
URL:https://junge-kirche-giswil.ch/event/taizegebet-7/
LOCATION:Kirche Rudenz\, St. Laurentius\, Kirchplatz 2\, Giswil\, 6074\, Schweiz
CATEGORIES:Taizé
END:VEVENT
END:VCALENDAR